BEGIN:VCALENDAR
VERSION:2.0
PRODID:-//StreamRadar//Match Calendar//EN
CALSCALE:GREGORIAN
METHOD:PUBLISH
X-WR-CALNAME:Assyriska vs AFC Eskilstuna
X-WR-TIMEZONE:America/New_York
BEGIN:VEVENT
UID:match-5534509@streamradar.soccer
SUMMARY:Assyriska vs AFC Eskilstuna
DTSTAMP:20260421T153222Z
DTSTART;TZID=America/New_York:20260917T133000
DTEND;TZID=America/New_York:20260917T153000
LOCATION:Sodertalje Fotbollsarena
DESCRIPTION:Dónde ver Assyriska vs AFC Eskilstuna en Suecia - Ettan. Trans
 misión en vivo y programación de TV.\nhttps://streamradar.soccer/es/match
 /5534509/assyriska-vs-afc-eskilstuna/
URL;VALUE=URI:https://streamradar.soccer/es/match/5534509/assyriska-vs-afc-
 eskilstuna/
STATUS:CONFIRMED
END:VEVENT
END:VCALENDAR
