BEGIN:VCALENDAR
VERSION:2.0
PRODID:-//StreamRadar//Match Calendar//EN
CALSCALE:GREGORIAN
METHOD:PUBLISH
X-WR-CALNAME:Gefle vs Järfälla
X-WR-TIMEZONE:America/New_York
BEGIN:VEVENT
UID:match-5534504@streamradar.soccer
SUMMARY:Gefle vs Järfälla
DTSTAMP:20260421T112131Z
DTSTART;TZID=America/New_York:20260912T100000
DTEND;TZID=America/New_York:20260912T120000
LOCATION:Gavlevallen
DESCRIPTION:Dónde ver Gefle vs Järfälla en Suecia - Ettan. Transmisión 
 en vivo y programación de TV.\nhttps://streamradar.soccer/es/match/5534504
 /gefle-vs-jarfalla/
URL;VALUE=URI:https://streamradar.soccer/es/match/5534504/gefle-vs-jarfalla
 /
STATUS:CONFIRMED
END:VEVENT
END:VCALENDAR
