BEGIN:VCALENDAR
VERSION:2.0
PRODID:-//StreamRadar//Match Calendar//EN
CALSCALE:GREGORIAN
METHOD:PUBLISH
X-WR-CALNAME:FBK Karlstad vs Vasalund
X-WR-TIMEZONE:America/New_York
BEGIN:VEVENT
UID:match-5534503@streamradar.soccer
SUMMARY:FBK Karlstad vs Vasalund
DTSTAMP:20260421T112302Z
DTSTART;TZID=America/New_York:20260912T100000
DTEND;TZID=America/New_York:20260912T120000
DESCRIPTION:Dónde ver FBK Karlstad vs Vasalund en Suecia - Ettan. Transmis
 ión en vivo y programación de TV.\nhttps://streamradar.soccer/es/match/55
 34503/fbk-karlstad-vs-vasalund/
URL;VALUE=URI:https://streamradar.soccer/es/match/5534503/fbk-karlstad-vs-v
 asalund/
STATUS:CONFIRMED
END:VEVENT
END:VCALENDAR
