BEGIN:VCALENDAR
VERSION:2.0
PRODID:-//StreamRadar//Match Calendar//EN
CALSCALE:GREGORIAN
METHOD:PUBLISH
X-WR-CALNAME:Puerto Nuevo vs Deportivo Paraguayo
X-WR-TIMEZONE:America/New_York
BEGIN:VEVENT
UID:match-5534247@streamradar.soccer
SUMMARY:Puerto Nuevo vs Deportivo Paraguayo
DTSTAMP:20260422T031718Z
DTSTART;TZID=America/New_York:20260919T160000
DTEND;TZID=America/New_York:20260919T180000
DESCRIPTION:Dónde ver Puerto Nuevo vs Deportivo Paraguayo en Argentina - P
 rimera C Metropolitana. Transmisión en vivo y programación de TV.\nhttps:
 //streamradar.soccer/es/match/5534247/puerto-nuevo-vs-deportivo-paraguayo/
URL;VALUE=URI:https://streamradar.soccer/es/match/5534247/puerto-nuevo-vs-d
 eportivo-paraguayo/
STATUS:CONFIRMED
END:VEVENT
END:VCALENDAR
