BEGIN:VCALENDAR
VERSION:2.0
PRODID:-//StreamRadar//Match Calendar//EN
CALSCALE:GREGORIAN
METHOD:PUBLISH
X-WR-CALNAME:Luján vs Atlas
X-WR-TIMEZONE:America/New_York
BEGIN:VEVENT
UID:match-5534239@streamradar.soccer
SUMMARY:Luján vs Atlas
DTSTAMP:20260422T152510Z
DTSTART;TZID=America/New_York:20260919T160000
DTEND;TZID=America/New_York:20260919T180000
LOCATION:1 de abril
DESCRIPTION:Dónde ver Luján vs Atlas en Argentina - Primera C Metropolita
 na. Transmisión en vivo y programación de TV.\nhttps://streamradar.soccer
 /es/match/5534239/lujan-vs-atlas/
URL;VALUE=URI:https://streamradar.soccer/es/match/5534239/lujan-vs-atlas/
STATUS:CONFIRMED
END:VEVENT
END:VCALENDAR
