BEGIN:VCALENDAR
VERSION:2.0
PRODID:-//StreamRadar//Match Calendar//EN
CALSCALE:GREGORIAN
METHOD:PUBLISH
X-WR-CALNAME:Central Ballester vs Puerto Nuevo
X-WR-TIMEZONE:America/New_York
BEGIN:VEVENT
UID:match-5534224@streamradar.soccer
SUMMARY:Central Ballester vs Puerto Nuevo
DTSTAMP:20260421T183123Z
DTSTART;TZID=America/New_York:20260912T160000
DTEND;TZID=America/New_York:20260912T180000
DESCRIPTION:Dónde ver Central Ballester vs Puerto Nuevo en Argentina - Pri
 mera C Metropolitana. Transmisión en vivo y programación de TV.\nhttps://
 streamradar.soccer/es/match/5534224/central-ballester-vs-puerto-nuevo/
URL;VALUE=URI:https://streamradar.soccer/es/match/5534224/central-ballester
 -vs-puerto-nuevo/
STATUS:CONFIRMED
END:VEVENT
END:VCALENDAR
