BEGIN:VCALENDAR
VERSION:2.0
PRODID:-//StreamRadar//Match Calendar//EN
CALSCALE:GREGORIAN
METHOD:PUBLISH
X-WR-CALNAME:Juventud Unida vs Defensores de Cambaceres
X-WR-TIMEZONE:America/New_York
BEGIN:VEVENT
UID:match-5534132@streamradar.soccer
SUMMARY:Juventud Unida vs Defensores de Cambaceres
DTSTAMP:20260422T015635Z
DTSTART;TZID=America/New_York:20260725T160000
DTEND;TZID=America/New_York:20260725T180000
DESCRIPTION:Dónde ver Juventud Unida vs Defensores De Cambaceres en Argent
 ina - Primera C Metropolitana. Transmisión en vivo y programación de TV.\
 nhttps://streamradar.soccer/es/match/5534132/juventud-unida-vs-defensores-d
 e-cambaceres/
URL;VALUE=URI:https://streamradar.soccer/es/match/5534132/juventud-unida-vs
 -defensores-de-cambaceres/
STATUS:CONFIRMED
END:VEVENT
END:VCALENDAR
