BEGIN:VCALENDAR
VERSION:2.0
PRODID:-//StreamRadar//Match Calendar//EN
CALSCALE:GREGORIAN
METHOD:PUBLISH
X-WR-CALNAME:Estrella del Sur vs Luján
X-WR-TIMEZONE:America/New_York
BEGIN:VEVENT
UID:match-5534117@streamradar.soccer
SUMMARY:Estrella del Sur vs Luján
DTSTAMP:20260422T000444Z
DTSTART;TZID=America/New_York:20260718T160000
DTEND;TZID=America/New_York:20260718T180000
DESCRIPTION:Dónde ver Estrella del Sur vs Luján en Argentina - Primera C 
 Metropolitana. Transmisión en vivo y programación de TV.\nhttps://streamr
 adar.soccer/es/match/5534117/estrella-del-sur-vs-lujan/
URL;VALUE=URI:https://streamradar.soccer/es/match/5534117/estrella-del-sur-
 vs-lujan/
STATUS:CONFIRMED
END:VEVENT
END:VCALENDAR
