BEGIN:VCALENDAR
VERSION:2.0
PRODID:-//StreamRadar//Match Calendar//EN
CALSCALE:GREGORIAN
METHOD:PUBLISH
X-WR-CALNAME:Deportivo Paraguayo vs Central Ballester
X-WR-TIMEZONE:America/New_York
BEGIN:VEVENT
UID:match-5534116@streamradar.soccer
SUMMARY:Deportivo Paraguayo vs Central Ballester
DTSTAMP:20260421T224502Z
DTSTART;TZID=America/New_York:20260718T160000
DTEND;TZID=America/New_York:20260718T180000
DESCRIPTION:Dónde ver Deportivo Paraguayo vs Central Ballester en Argentin
 a - Primera C Metropolitana. Transmisión en vivo y programación de TV.\nh
 ttps://streamradar.soccer/es/match/5534116/deportivo-paraguayo-vs-central-b
 allester/
URL;VALUE=URI:https://streamradar.soccer/es/match/5534116/deportivo-paragua
 yo-vs-central-ballester/
STATUS:CONFIRMED
END:VEVENT
END:VCALENDAR
