BEGIN:VCALENDAR
VERSION:2.0
PRODID:-//StreamRadar//Match Calendar//EN
CALSCALE:GREGORIAN
METHOD:PUBLISH
X-WR-CALNAME:Gwangju vs Anyang
X-WR-TIMEZONE:America/New_York
BEGIN:VEVENT
UID:match-5533818@streamradar.soccer
SUMMARY:Gwangju vs Anyang
DTSTAMP:20260421T211055Z
DTSTART;TZID=America/New_York:20260913T060000
DTEND;TZID=America/New_York:20260913T080000
LOCATION:Gwangju Football Stadium
DESCRIPTION:Dónde ver Gwangju vs Anyang en Corea del Sur - K League 1. Tra
 nsmisión en vivo y programación de TV.\nhttps://streamradar.soccer/es/mat
 ch/5533818/gwangju-vs-anyang/
URL;VALUE=URI:https://streamradar.soccer/es/match/5533818/gwangju-vs-anyang
 /
STATUS:CONFIRMED
END:VEVENT
END:VCALENDAR
