BEGIN:VCALENDAR
VERSION:2.0
PRODID:-//StreamRadar//Match Calendar//EN
CALSCALE:GREGORIAN
METHOD:PUBLISH
X-WR-CALNAME:Jeonbuk Motors vs Pohang Steelers
X-WR-TIMEZONE:America/New_York
BEGIN:VEVENT
UID:match-5533803@streamradar.soccer
SUMMARY:Jeonbuk Motors vs Pohang Steelers
DTSTAMP:20260421T182716Z
DTSTART;TZID=America/New_York:20260905T060000
DTEND;TZID=America/New_York:20260905T080000
LOCATION:Jeonju World Cup Stadium
DESCRIPTION:Dónde ver Jeonbuk Motors vs Pohang Steelers en Corea del Sur -
  K League 1. Transmisión en vivo y programación de TV.\nhttps://streamrad
 ar.soccer/es/match/5533803/jeonbuk-motors-vs-pohang-steelers/
URL;VALUE=URI:https://streamradar.soccer/es/match/5533803/jeonbuk-motors-vs
 -pohang-steelers/
STATUS:CONFIRMED
END:VEVENT
END:VCALENDAR
