BEGIN:VCALENDAR
VERSION:2.0
PRODID:-//StreamRadar//Match Calendar//EN
CALSCALE:GREGORIAN
METHOD:PUBLISH
X-WR-CALNAME:Bucheon 1995 vs Daejeon Citizen
X-WR-TIMEZONE:America/New_York
BEGIN:VEVENT
UID:match-5533801@streamradar.soccer
SUMMARY:Bucheon 1995 vs Daejeon Citizen
DTSTAMP:20260421T213549Z
DTSTART;TZID=America/New_York:20260905T060000
DTEND;TZID=America/New_York:20260905T080000
LOCATION:Bucheon Stadium
DESCRIPTION:Dónde ver Bucheon 1995 vs Daejeon Citizen en Corea del Sur - K
  League 1. Transmisión en vivo y programación de TV.\nhttps://streamradar
 .soccer/es/match/5533801/bucheon-1995-vs-daejeon-citizen/
URL;VALUE=URI:https://streamradar.soccer/es/match/5533801/bucheon-1995-vs-d
 aejeon-citizen/
STATUS:CONFIRMED
END:VEVENT
END:VCALENDAR
