BEGIN:VCALENDAR
VERSION:2.0
PRODID:-//StreamRadar//Match Calendar//EN
CALSCALE:GREGORIAN
METHOD:PUBLISH
X-WR-CALNAME:Incheon United vs Jeonbuk Motors
X-WR-TIMEZONE:America/New_York
BEGIN:VEVENT
UID:match-5533749@streamradar.soccer
SUMMARY:Incheon United vs Jeonbuk Motors
DTSTAMP:20260422T011418Z
DTSTART;TZID=America/New_York:20260718T063000
DTEND;TZID=America/New_York:20260718T083000
LOCATION:Sungui Arena Park
DESCRIPTION:Dónde ver Incheon United vs Jeonbuk Motors en Corea del Sur - 
 K League 1. Transmisión en vivo y programación de TV.\nhttps://streamrada
 r.soccer/es/match/5533749/incheon-united-vs-jeonbuk-motors/
URL;VALUE=URI:https://streamradar.soccer/es/match/5533749/incheon-united-vs
 -jeonbuk-motors/
STATUS:CONFIRMED
END:VEVENT
END:VCALENDAR
