BEGIN:VCALENDAR
VERSION:2.0
PRODID:-//StreamRadar//Match Calendar//EN
CALSCALE:GREGORIAN
METHOD:PUBLISH
X-WR-CALNAME:Angel City vs Seattle Reign
X-WR-TIMEZONE:America/New_York
BEGIN:VEVENT
UID:match-5533589@streamradar.soccer
SUMMARY:Angel City vs Seattle Reign
DTSTAMP:20260421T080805Z
DTSTART;TZID=America/New_York:20260916T220000
DTEND;TZID=America/New_York:20260917T000000
LOCATION:BMO Stadium
DESCRIPTION:Dónde ver Angel City vs Seattle Reign en NWSL. Transmisión en
  vivo y programación de TV.\nhttps://streamradar.soccer/es/match/5533589/a
 ngel-city-vs-seattle-reign/
URL;VALUE=URI:https://streamradar.soccer/es/match/5533589/angel-city-vs-sea
 ttle-reign/
STATUS:CONFIRMED
END:VEVENT
END:VCALENDAR
