BEGIN:VCALENDAR
VERSION:2.0
PRODID:-//StreamRadar//Match Calendar//EN
CALSCALE:GREGORIAN
METHOD:PUBLISH
X-WR-CALNAME:Racing Louisville FC vs Angel City
X-WR-TIMEZONE:America/New_York
BEGIN:VEVENT
UID:match-5533574@streamradar.soccer
SUMMARY:Racing Louisville FC vs Angel City
DTSTAMP:20260421T105022Z
DTSTART;TZID=America/New_York:20260905T183000
DTEND;TZID=America/New_York:20260905T203000
LOCATION:Lynn Family Stadium
DESCRIPTION:Dónde ver Racing Louisville FC vs Angel City en NWSL. Transmis
 ión en vivo y programación de TV.\nhttps://streamradar.soccer/es/match/55
 33574/racing-louisville-fc-vs-angel-city/
URL;VALUE=URI:https://streamradar.soccer/es/match/5533574/racing-louisville
 -fc-vs-angel-city/
STATUS:CONFIRMED
END:VEVENT
END:VCALENDAR
