BEGIN:VCALENDAR
VERSION:2.0
PRODID:-//StreamRadar//Match Calendar//EN
CALSCALE:GREGORIAN
METHOD:PUBLISH
X-WR-CALNAME:Keflavík vs Valur
X-WR-TIMEZONE:America/New_York
BEGIN:VEVENT
UID:match-5533004@streamradar.soccer
SUMMARY:Keflavík vs Valur
DTSTAMP:20260425T115738Z
DTSTART;TZID=America/New_York:20260906T100000
DTEND;TZID=America/New_York:20260906T120000
DESCRIPTION:Dónde ver Keflavík vs Valur en Islandia - Besta deild karla. 
 Transmisión en vivo y programación de TV.\nhttps://streamradar.soccer/es/
 match/5533004/keflavik-vs-valur/
URL;VALUE=URI:https://streamradar.soccer/es/match/5533004/keflavik-vs-valur
 /
STATUS:CONFIRMED
END:VEVENT
END:VCALENDAR
