BEGIN:VCALENDAR
VERSION:2.0
PRODID:-//StreamRadar//Match Calendar//EN
CALSCALE:GREGORIAN
METHOD:PUBLISH
X-WR-CALNAME:KA vs Breidablik
X-WR-TIMEZONE:America/New_York
BEGIN:VEVENT
UID:match-5533003@streamradar.soccer
SUMMARY:KA vs Breidablik
DTSTAMP:20260422T082325Z
DTSTART;TZID=America/New_York:20260906T100000
DTEND;TZID=America/New_York:20260906T120000
DESCRIPTION:Dónde ver KA vs Breidablik en Islandia - Besta deild karla. Tr
 ansmisión en vivo y programación de TV.\nhttps://streamradar.soccer/es/ma
 tch/5533003/ka-vs-breidablik/
URL;VALUE=URI:https://streamradar.soccer/es/match/5533003/ka-vs-breidablik/
STATUS:CONFIRMED
END:VEVENT
END:VCALENDAR
