BEGIN:VCALENDAR
VERSION:2.0
PRODID:-//StreamRadar//Match Calendar//EN
CALSCALE:GREGORIAN
METHOD:PUBLISH
X-WR-CALNAME:Spaeri vs Dila
X-WR-TIMEZONE:America/New_York
BEGIN:VEVENT
UID:match-5532406@streamradar.soccer
SUMMARY:Spaeri vs Dila
DTSTAMP:20260422T025457Z
DTSTART;TZID=America/New_York:20260919T090000
DTEND;TZID=America/New_York:20260919T110000
LOCATION:Spaeri Stadium
DESCRIPTION:Dónde ver Spaeri vs Dila en Georgia - Erovnuli Liga. Transmisi
 ón en vivo y programación de TV.\nhttps://streamradar.soccer/es/match/553
 2406/spaeri-vs-dila/
URL;VALUE=URI:https://streamradar.soccer/es/match/5532406/spaeri-vs-dila/
STATUS:CONFIRMED
END:VEVENT
END:VCALENDAR
