BEGIN:VCALENDAR
VERSION:2.0
PRODID:-//StreamRadar//Match Calendar//EN
CALSCALE:GREGORIAN
METHOD:PUBLISH
X-WR-CALNAME:Varberg vs Brage
X-WR-TIMEZONE:America/New_York
BEGIN:VEVENT
UID:match-5531914@streamradar.soccer
SUMMARY:Varberg vs Brage
DTSTAMP:20260423T073311Z
DTSTART;TZID=America/New_York:20260920T090000
DTEND;TZID=America/New_York:20260920T110000
LOCATION:Paskbergsvallen
DESCRIPTION:Dónde ver Varberg vs Brage en Suecia - Superettan. Transmisió
 n en vivo y programación de TV.\nhttps://streamradar.soccer/es/match/55319
 14/varberg-vs-brage/
URL;VALUE=URI:https://streamradar.soccer/es/match/5531914/varberg-vs-brage/
STATUS:CONFIRMED
END:VEVENT
END:VCALENDAR
