BEGIN:VCALENDAR
VERSION:2.0
PRODID:-//StreamRadar//Match Calendar//EN
CALSCALE:GREGORIAN
METHOD:PUBLISH
X-WR-CALNAME:Oddevold vs Falkenberg
X-WR-TIMEZONE:America/New_York
BEGIN:VEVENT
UID:match-5531887@streamradar.soccer
SUMMARY:Oddevold vs Falkenberg
DTSTAMP:20260422T005805Z
DTSTART;TZID=America/New_York:20260906T090000
DTEND;TZID=America/New_York:20260906T110000
LOCATION:Rimnersvallen
DESCRIPTION:Dónde ver Oddevold vs Falkenberg en Suecia - Superettan. Trans
 misión en vivo y programación de TV.\nhttps://streamradar.soccer/es/match
 /5531887/oddevold-vs-falkenberg/
URL;VALUE=URI:https://streamradar.soccer/es/match/5531887/oddevold-vs-falke
 nberg/
STATUS:CONFIRMED
END:VEVENT
END:VCALENDAR
