BEGIN:VCALENDAR
VERSION:2.0
PRODID:-//StreamRadar//Match Calendar//EN
CALSCALE:GREGORIAN
METHOD:PUBLISH
X-WR-CALNAME:Palestino vs Universidad Católica
X-WR-TIMEZONE:America/New_York
BEGIN:VEVENT
UID:match-5530008@streamradar.soccer
SUMMARY:Palestino vs Universidad Católica
DTSTAMP:20260421T104935Z
DTSTART;TZID=America/New_York:20260913T160000
DTEND;TZID=America/New_York:20260913T180000
LOCATION:Estadio Municipal de La Cisterna
DESCRIPTION:Dónde ver Palestino vs Universidad Católica en Chile - Primer
 a División de Chile. Transmisión en vivo y programación de TV.\nhttps://
 streamradar.soccer/es/match/5530008/palestino-vs-universidad-catolica/
URL;VALUE=URI:https://streamradar.soccer/es/match/5530008/palestino-vs-univ
 ersidad-catolica/
STATUS:CONFIRMED
END:VEVENT
END:VCALENDAR
