BEGIN:VCALENDAR
VERSION:2.0
PRODID:-//StreamRadar//Match Calendar//EN
CALSCALE:GREGORIAN
METHOD:PUBLISH
X-WR-CALNAME:Universidad Chile vs Coquimbo Unido
X-WR-TIMEZONE:America/New_York
BEGIN:VEVENT
UID:match-5530002@streamradar.soccer
SUMMARY:Universidad Chile vs Coquimbo Unido
DTSTAMP:20260421T095958Z
DTSTART;TZID=America/New_York:20260906T000000
DTEND;TZID=America/New_York:20260906T020000
DESCRIPTION:Dónde ver Universidad Chile vs Coquimbo Unido en Chile - Prime
 ra División de Chile. Transmisión en vivo y programación de TV.\nhttps:/
 /streamradar.soccer/es/match/5530002/universidad-chile-vs-coquimbo-unido/
URL;VALUE=URI:https://streamradar.soccer/es/match/5530002/universidad-chile
 -vs-coquimbo-unido/
STATUS:CONFIRMED
END:VEVENT
END:VCALENDAR
