BEGIN:VCALENDAR
VERSION:2.0
PRODID:-//StreamRadar//Match Calendar//EN
CALSCALE:GREGORIAN
METHOD:PUBLISH
X-WR-CALNAME:Deportes Concepción vs Audax Italiano
X-WR-TIMEZONE:America/New_York
BEGIN:VEVENT
UID:match-5529995@streamradar.soccer
SUMMARY:Deportes Concepción vs Audax Italiano
DTSTAMP:20260421T095958Z
DTSTART;TZID=America/New_York:20260906T000000
DTEND;TZID=America/New_York:20260906T020000
LOCATION:Estadio Ester Roa
DESCRIPTION:Dónde ver Deportes Concepción vs Audax Italiano en Chile - Pr
 imera División de Chile. Transmisión en vivo y programación de TV.\nhttp
 s://streamradar.soccer/es/match/5529995/deportes-concepcion-vs-audax-italia
 no/
URL;VALUE=URI:https://streamradar.soccer/es/match/5529995/deportes-concepci
 on-vs-audax-italiano/
STATUS:CONFIRMED
END:VEVENT
END:VCALENDAR
