BEGIN:VCALENDAR
VERSION:2.0
PRODID:-//StreamRadar//Match Calendar//EN
CALSCALE:GREGORIAN
METHOD:PUBLISH
X-WR-CALNAME:HÃ¸nefoss vs Lyn
X-WR-TIMEZONE:America/New_York
BEGIN:VEVENT
UID:match-5509896@streamradar.soccer
SUMMARY:HÃ¸nefoss vs Lyn
DTSTAMP:20260421T175003Z
DTSTART;TZID=America/New_York:20260620T090000
DTEND;TZID=America/New_York:20260620T110000
DESCRIPTION:DÃ³nde ver HÃ¸nefoss vs Lyn en Noruega - Toppserien. TransmisiÃ
 ³n en vivo y programaciÃ³n de TV.\nhttps://streamradar.soccer/es/match/5509
 896/hnefoss-vs-lyn/
URL;VALUE=URI:https://streamradar.soccer/es/match/5509896/hnefoss-vs-lyn/
STATUS:CONFIRMED
END:VEVENT
END:VCALENDAR
