BEGIN:VCALENDAR
VERSION:2.0
PRODID:-//StreamRadar//Match Calendar//EN
CALSCALE:GREGORIAN
METHOD:PUBLISH
X-WR-CALNAME:Spokane Velocity vs Boise
X-WR-TIMEZONE:America/New_York
BEGIN:VEVENT
UID:match-5509611@streamradar.soccer
SUMMARY:Spokane Velocity vs Boise
DTSTAMP:20260425T174345Z
DTSTART;TZID=America/New_York:20260920T190000
DTEND;TZID=America/New_York:20260920T210000
LOCATION:One Spokane Stadium
DESCRIPTION:Dónde ver Spokane Velocity vs Boise en Estados Unidos - USL Le
 ague One. Transmisión en vivo y programación de TV.\nhttps://streamradar.
 soccer/es/match/5509611/spokane-velocity-vs-boise/
URL;VALUE=URI:https://streamradar.soccer/es/match/5509611/spokane-velocity-
 vs-boise/
STATUS:CONFIRMED
END:VEVENT
END:VCALENDAR
