BEGIN:VCALENDAR
VERSION:2.0
PRODID:-//StreamRadar//Match Calendar//EN
CALSCALE:GREGORIAN
METHOD:PUBLISH
X-WR-CALNAME:Sarasota Paradise vs Greenville Triumph
X-WR-TIMEZONE:America/New_York
BEGIN:VEVENT
UID:match-5509610@streamradar.soccer
SUMMARY:Sarasota Paradise vs Greenville Triumph
DTSTAMP:20260422T071233Z
DTSTART;TZID=America/New_York:20260919T193000
DTEND;TZID=America/New_York:20260919T213000
DESCRIPTION:Dónde ver Sarasota Paradise vs Greenville Triumph en Estados U
 nidos - USL League One. Transmisión en vivo y programación de TV.\nhttps:
 //streamradar.soccer/es/match/5509610/sarasota-paradise-vs-greenville-trium
 ph/
URL;VALUE=URI:https://streamradar.soccer/es/match/5509610/sarasota-paradise
 -vs-greenville-triumph/
STATUS:CONFIRMED
END:VEVENT
END:VCALENDAR
