BEGIN:VCALENDAR
VERSION:2.0
PRODID:-//StreamRadar//Match Calendar//EN
CALSCALE:GREGORIAN
METHOD:PUBLISH
X-WR-CALNAME:PiteÃ¥ vs AIK
X-WR-TIMEZONE:America/New_York
BEGIN:VEVENT
UID:match-5509151@streamradar.soccer
SUMMARY:PiteÃ¥ vs AIK
DTSTAMP:20260421T161617Z
DTSTART;TZID=America/New_York:20260913T090000
DTEND;TZID=America/New_York:20260913T110000
LOCATION:LF Arena
DESCRIPTION:DÃ³nde ver PiteÃ¥ vs AIK en Suecia - Damallsvenskan. TransmisiÃ
 ³n en vivo y programaciÃ³n de TV.\nhttps://streamradar.soccer/es/match/5509
 151/pitea-vs-aik/
URL;VALUE=URI:https://streamradar.soccer/es/match/5509151/pitea-vs-aik/
STATUS:CONFIRMED
END:VEVENT
END:VCALENDAR
