BEGIN:VCALENDAR
VERSION:2.0
PRODID:-//StreamRadar//Match Calendar//EN
CALSCALE:GREGORIAN
METHOD:PUBLISH
X-WR-CALNAME:Hammarby vs Norrköping
X-WR-TIMEZONE:America/New_York
BEGIN:VEVENT
UID:match-5509143@streamradar.soccer
SUMMARY:Hammarby vs Norrköping
DTSTAMP:20260421T161611Z
DTSTART;TZID=America/New_York:20260906T090000
DTEND;TZID=America/New_York:20260906T110000
LOCATION:Hammarby IP
DESCRIPTION:Dónde ver Hammarby vs Norrköping en Suecia - Damallsvenskan. 
 Transmisión en vivo y programación de TV.\nhttps://streamradar.soccer/es/
 match/5509143/hammarby-vs-norrkoping/
URL;VALUE=URI:https://streamradar.soccer/es/match/5509143/hammarby-vs-norrk
 oping/
STATUS:CONFIRMED
END:VEVENT
END:VCALENDAR
