BEGIN:VCALENDAR
VERSION:2.0
PRODID:-//StreamRadar//Match Calendar//EN
CALSCALE:GREGORIAN
METHOD:PUBLISH
X-WR-CALNAME:Ullensaker / Kisa vs Junkeren
X-WR-TIMEZONE:America/New_York
BEGIN:VEVENT
UID:match-5508976@streamradar.soccer
SUMMARY:Ullensaker / Kisa vs Junkeren
DTSTAMP:20260424T074806Z
DTSTART;TZID=America/New_York:20260920T100000
DTEND;TZID=America/New_York:20260920T120000
LOCATION:Jessheim Stadion
DESCRIPTION:Dónde ver Ullensaker / Kisa vs Junkeren en Noruega - Segunda D
 ivisión de Noruega. Transmisión en vivo y programación de TV.\nhttps://s
 treamradar.soccer/es/match/5508976/ullensaker-kisa-vs-junkeren/
URL;VALUE=URI:https://streamradar.soccer/es/match/5508976/ullensaker-kisa-v
 s-junkeren/
STATUS:CONFIRMED
END:VEVENT
END:VCALENDAR
