BEGIN:VCALENDAR
VERSION:2.0
PRODID:-//StreamRadar//Match Calendar//EN
CALSCALE:GREGORIAN
METHOD:PUBLISH
X-WR-CALNAME:Skeid vs Kjelsås
X-WR-TIMEZONE:America/New_York
BEGIN:VEVENT
UID:match-5508959@streamradar.soccer
SUMMARY:Skeid vs Kjelsås
DTSTAMP:20260421T120417Z
DTSTART;TZID=America/New_York:20260905T080000
DTEND;TZID=America/New_York:20260905T100000
DESCRIPTION:Dónde ver Skeid vs Kjelsås en Noruega - Segunda División de 
 Noruega. Transmisión en vivo y programación de TV.\nhttps://streamradar.s
 occer/es/match/5508959/skeid-vs-kjelsas/
URL;VALUE=URI:https://streamradar.soccer/es/match/5508959/skeid-vs-kjelsas/
STATUS:CONFIRMED
END:VEVENT
END:VCALENDAR
