BEGIN:VCALENDAR
VERSION:2.0
PRODID:-//StreamRadar//Match Calendar//EN
CALSCALE:GREGORIAN
METHOD:PUBLISH
X-WR-CALNAME:Kvik Halden vs Jerv
X-WR-TIMEZONE:America/New_York
BEGIN:VEVENT
UID:match-5508790@streamradar.soccer
SUMMARY:Kvik Halden vs Jerv
DTSTAMP:20260422T060913Z
DTSTART;TZID=America/New_York:20260919T100000
DTEND;TZID=America/New_York:20260919T120000
LOCATION:Halden Stadion
DESCRIPTION:Dónde ver Kvik Halden vs Jerv en Noruega - Segunda División d
 e Noruega. Transmisión en vivo y programación de TV.\nhttps://streamradar
 .soccer/es/match/5508790/kvik-halden-vs-jerv/
URL;VALUE=URI:https://streamradar.soccer/es/match/5508790/kvik-halden-vs-je
 rv/
STATUS:CONFIRMED
END:VEVENT
END:VCALENDAR
