BEGIN:VCALENDAR
VERSION:2.0
PRODID:-//StreamRadar//Match Calendar//EN
CALSCALE:GREGORIAN
METHOD:PUBLISH
X-WR-CALNAME:Brattvåg vs Eik-Tønsberg
X-WR-TIMEZONE:America/New_York
BEGIN:VEVENT
UID:match-5508789@streamradar.soccer
SUMMARY:Brattvåg vs Eik-Tønsberg
DTSTAMP:20260422T052102Z
DTSTART;TZID=America/New_York:20260919T090000
DTEND;TZID=America/New_York:20260919T110000
DESCRIPTION:Dónde ver Brattvåg vs Eik-Tønsberg en Noruega - Segunda Divi
 sión de Noruega. Transmisión en vivo y programación de TV.\nhttps://stre
 amradar.soccer/es/match/5508789/brattvag-vs-eik-tonsberg/
URL;VALUE=URI:https://streamradar.soccer/es/match/5508789/brattvag-vs-eik-t
 onsberg/
STATUS:CONFIRMED
END:VEVENT
END:VCALENDAR
