BEGIN:VCALENDAR
VERSION:2.0
PRODID:-//StreamRadar//Match Calendar//EN
CALSCALE:GREGORIAN
METHOD:PUBLISH
X-WR-CALNAME:Bjarg vs Træff
X-WR-TIMEZONE:America/New_York
BEGIN:VEVENT
UID:match-5508788@streamradar.soccer
SUMMARY:Bjarg vs Træff
DTSTAMP:20260424T074538Z
DTSTART;TZID=America/New_York:20260920T100000
DTEND;TZID=America/New_York:20260920T120000
DESCRIPTION:Dónde ver Bjarg vs Træff en Noruega - Segunda División de No
 ruega. Transmisión en vivo y programación de TV.\nhttps://streamradar.soc
 cer/es/match/5508788/bjarg-vs-traff/
URL;VALUE=URI:https://streamradar.soccer/es/match/5508788/bjarg-vs-traff/
STATUS:CONFIRMED
END:VEVENT
END:VCALENDAR
