BEGIN:VCALENDAR
VERSION:2.0
PRODID:-//StreamRadar//Match Calendar//EN
CALSCALE:GREGORIAN
METHOD:PUBLISH
X-WR-CALNAME:Sandviken vs Eik-Tønsberg
X-WR-TIMEZONE:America/New_York
BEGIN:VEVENT
UID:match-5508779@streamradar.soccer
SUMMARY:Sandviken vs Eik-Tønsberg
DTSTAMP:20260421T104119Z
DTSTART;TZID=America/New_York:20260905T070000
DTEND;TZID=America/New_York:20260905T090000
DESCRIPTION:Dónde ver Sandviken vs Eik-Tønsberg en Noruega - Segunda Divi
 sión de Noruega. Transmisión en vivo y programación de TV.\nhttps://stre
 amradar.soccer/es/match/5508779/sandviken-vs-eik-tonsberg/
URL;VALUE=URI:https://streamradar.soccer/es/match/5508779/sandviken-vs-eik-
 tonsberg/
STATUS:CONFIRMED
END:VEVENT
END:VCALENDAR
