BEGIN:VCALENDAR
VERSION:2.0
PRODID:-//StreamRadar//Match Calendar//EN
CALSCALE:GREGORIAN
METHOD:PUBLISH
X-WR-CALNAME:Pors Grenland vs TrÃ¦ff
X-WR-TIMEZONE:America/New_York
BEGIN:VEVENT
UID:match-5508778@streamradar.soccer
SUMMARY:Pors Grenland vs TrÃ¦ff
DTSTAMP:20260421T135858Z
DTSTART;TZID=America/New_York:20260906T070000
DTEND;TZID=America/New_York:20260906T090000
LOCATION:Pors Stadion
DESCRIPTION:DÃ³nde ver Pors Grenland vs TrÃ¦ff en Noruega - Segunda DivisiÃ
 ³n de Noruega. TransmisiÃ³n en vivo y programaciÃ³n de TV.\nhttps://streamr
 adar.soccer/es/match/5508778/pors-grenland-vs-traff/
URL;VALUE=URI:https://streamradar.soccer/es/match/5508778/pors-grenland-vs-
 traff/
STATUS:CONFIRMED
END:VEVENT
END:VCALENDAR
