BEGIN:VCALENDAR
VERSION:2.0
PRODID:-//StreamRadar//Match Calendar//EN
CALSCALE:GREGORIAN
METHOD:PUBLISH
X-WR-CALNAME:Brattvåg vs Kvik Halden
X-WR-TIMEZONE:America/New_York
BEGIN:VEVENT
UID:match-5508775@streamradar.soccer
SUMMARY:Brattvåg vs Kvik Halden
DTSTAMP:20260421T135858Z
DTSTART;TZID=America/New_York:20260905T090000
DTEND;TZID=America/New_York:20260905T110000
DESCRIPTION:Dónde ver Brattvåg vs Kvik Halden en Noruega - Segunda Divisi
 ón de Noruega. Transmisión en vivo y programación de TV.\nhttps://stream
 radar.soccer/es/match/5508775/brattvag-vs-kvik-halden/
URL;VALUE=URI:https://streamradar.soccer/es/match/5508775/brattvag-vs-kvik-
 halden/
STATUS:CONFIRMED
END:VEVENT
END:VCALENDAR
