BEGIN:VCALENDAR
VERSION:2.0
PRODID:-//StreamRadar//Match Calendar//EN
CALSCALE:GREGORIAN
METHOD:PUBLISH
X-WR-CALNAME:Sandnes Ulf vs Ranheim
X-WR-TIMEZONE:America/New_York
BEGIN:VEVENT
UID:match-5507610@streamradar.soccer
SUMMARY:Sandnes Ulf vs Ranheim
DTSTAMP:20260421T124721Z
DTSTART;TZID=America/New_York:20260906T110000
DTEND;TZID=America/New_York:20260906T130000
DESCRIPTION:Dónde ver Sandnes Ulf vs Ranheim en Noruega - OBOS-ligaen. Tra
 nsmisión en vivo y programación de TV.\nhttps://streamradar.soccer/es/mat
 ch/5507610/sandnes-ulf-vs-ranheim/
URL;VALUE=URI:https://streamradar.soccer/es/match/5507610/sandnes-ulf-vs-ra
 nheim/
STATUS:CONFIRMED
END:VEVENT
END:VCALENDAR
