BEGIN:VCALENDAR
VERSION:2.0
PRODID:-//StreamRadar//Match Calendar//EN
CALSCALE:GREGORIAN
METHOD:PUBLISH
X-WR-CALNAME:Odd vs Strømsgodset
X-WR-TIMEZONE:America/New_York
BEGIN:VEVENT
UID:match-5507609@streamradar.soccer
SUMMARY:Odd vs Strømsgodset
DTSTAMP:20260421T131014Z
DTSTART;TZID=America/New_York:20260906T110000
DTEND;TZID=America/New_York:20260906T130000
LOCATION:Skagerak Arena
DESCRIPTION:Dónde ver Odd vs Strømsgodset en Noruega - OBOS-ligaen. Trans
 misión en vivo y programación de TV.\nhttps://streamradar.soccer/es/match
 /5507609/odd-vs-stromsgodset/
URL;VALUE=URI:https://streamradar.soccer/es/match/5507609/odd-vs-stromsgods
 et/
STATUS:CONFIRMED
END:VEVENT
END:VCALENDAR
