BEGIN:VCALENDAR
VERSION:2.0
PRODID:-//StreamRadar//Match Calendar//EN
CALSCALE:GREGORIAN
METHOD:PUBLISH
X-WR-CALNAME:UCD vs Athlone Town
X-WR-TIMEZONE:America/New_York
BEGIN:VEVENT
UID:match-5507394@streamradar.soccer
SUMMARY:UCD vs Athlone Town
DTSTAMP:20260425T132804Z
DTSTART;TZID=America/New_York:20260911T144500
DTEND;TZID=America/New_York:20260911T164500
LOCATION:UCD Bowl
DESCRIPTION:Dónde ver UCD vs Athlone Town en Premier Division. Transmisió
 n en vivo y programación de TV.\nhttps://streamradar.soccer/es/match/55073
 94/ucd-vs-athlone-town/
URL;VALUE=URI:https://streamradar.soccer/es/match/5507394/ucd-vs-athlone-to
 wn/
STATUS:CONFIRMED
END:VEVENT
END:VCALENDAR
