BEGIN:VCALENDAR
VERSION:2.0
PRODID:-//StreamRadar//Match Calendar//EN
CALSCALE:GREGORIAN
METHOD:PUBLISH
X-WR-CALNAME:Lillestrøm vs Vålerenga
X-WR-TIMEZONE:America/New_York
BEGIN:VEVENT
UID:match-5506731@streamradar.soccer
SUMMARY:Lillestrøm vs Vålerenga
DTSTAMP:20260421T095905Z
DTSTART;TZID=America/New_York:20260913T110000
DTEND;TZID=America/New_York:20260913T130000
DESCRIPTION:Dónde ver Lillestrøm vs Vålerenga en Noruega - Eliteserien. 
 Transmisión en vivo y programación de TV.\nhttps://streamradar.soccer/es/
 match/5506731/lillestrom-vs-valerenga/
URL;VALUE=URI:https://streamradar.soccer/es/match/5506731/lillestrom-vs-val
 erenga/
STATUS:CONFIRMED
END:VEVENT
END:VCALENDAR
