BEGIN:VCALENDAR
VERSION:2.0
PRODID:-//StreamRadar//Match Calendar//EN
CALSCALE:GREGORIAN
METHOD:PUBLISH
X-WR-CALNAME:Fredrikstad vs Sarpsborg 08
X-WR-TIMEZONE:America/New_York
BEGIN:VEVENT
UID:match-5506728@streamradar.soccer
SUMMARY:Fredrikstad vs Sarpsborg 08
DTSTAMP:20260421T141501Z
DTSTART;TZID=America/New_York:20260913T110000
DTEND;TZID=America/New_York:20260913T130000
LOCATION:Fredrikstad Stadion
DESCRIPTION:Dónde ver Fredrikstad vs Sarpsborg 08 en Noruega - Eliteserien
 . Transmisión en vivo y programación de TV.\nhttps://streamradar.soccer/e
 s/match/5506728/fredrikstad-vs-sarpsborg-08/
URL;VALUE=URI:https://streamradar.soccer/es/match/5506728/fredrikstad-vs-sa
 rpsborg-08/
STATUS:CONFIRMED
END:VEVENT
END:VCALENDAR
