BEGIN:VCALENDAR
VERSION:2.0
PRODID:-//StreamRadar//Match Calendar//EN
CALSCALE:GREGORIAN
METHOD:PUBLISH
X-WR-CALNAME:Sandefjord vs Viking
X-WR-TIMEZONE:America/New_York
BEGIN:VEVENT
UID:match-5506725@streamradar.soccer
SUMMARY:Sandefjord vs Viking
DTSTAMP:20260421T095902Z
DTSTART;TZID=America/New_York:20260906T110000
DTEND;TZID=America/New_York:20260906T130000
LOCATION:Jotun Arena
DESCRIPTION:Dónde ver Sandefjord vs Viking en Noruega - Eliteserien. Trans
 misión en vivo y programación de TV.\nhttps://streamradar.soccer/es/match
 /5506725/sandefjord-vs-viking/
URL;VALUE=URI:https://streamradar.soccer/es/match/5506725/sandefjord-vs-vik
 ing/
STATUS:CONFIRMED
END:VEVENT
END:VCALENDAR
