BEGIN:VCALENDAR
VERSION:2.0
PRODID:-//StreamRadar//Match Calendar//EN
CALSCALE:GREGORIAN
METHOD:PUBLISH
X-WR-CALNAME:MjÃ¤llby vs GAIS
X-WR-TIMEZONE:America/New_York
BEGIN:VEVENT
UID:match-5505861@streamradar.soccer
SUMMARY:MjÃ¤llby vs GAIS
DTSTAMP:20260425T174342Z
DTSTART;TZID=America/New_York:20260920T090000
DTEND;TZID=America/New_York:20260920T110000
LOCATION:Strandvallen
DESCRIPTION:DÃ³nde ver MjÃ¤llby vs GAIS en Suecia - Allsvenskan. TransmisiÃ
 ³n en vivo y programaciÃ³n de TV.\nhttps://streamradar.soccer/es/match/5505
 861/mjallby-vs-gais/
URL;VALUE=URI:https://streamradar.soccer/es/match/5505861/mjallby-vs-gais/
STATUS:CONFIRMED
END:VEVENT
END:VCALENDAR
