BEGIN:VCALENDAR
VERSION:2.0
PRODID:-//StreamRadar//Match Calendar//EN
CALSCALE:GREGORIAN
METHOD:PUBLISH
X-WR-CALNAME:Mjällby vs IFK Göteborg
X-WR-TIMEZONE:America/New_York
BEGIN:VEVENT
UID:match-5505845@streamradar.soccer
SUMMARY:Mjällby vs IFK Göteborg
DTSTAMP:20260421T084420Z
DTSTART;TZID=America/New_York:20260906T090000
DTEND;TZID=America/New_York:20260906T110000
LOCATION:Strandvallen
DESCRIPTION:Dónde ver Mjällby vs IFK Göteborg en Suecia - Allsvenskan. T
 ransmisión en vivo y programación de TV.\nhttps://streamradar.soccer/es/m
 atch/5505845/mjallby-vs-ifk-goteborg/
URL;VALUE=URI:https://streamradar.soccer/es/match/5505845/mjallby-vs-ifk-go
 teborg/
STATUS:CONFIRMED
END:VEVENT
END:VCALENDAR
