BEGIN:VCALENDAR
VERSION:2.0
PRODID:-//StreamRadar//Match Calendar//EN
CALSCALE:GREGORIAN
METHOD:PUBLISH
X-WR-CALNAME:Colorado Springs vs New Mexico United
X-WR-TIMEZONE:America/New_York
BEGIN:VEVENT
UID:match-5505609@streamradar.soccer
SUMMARY:Colorado Springs vs New Mexico United
DTSTAMP:20260425T162800Z
DTSTART;TZID=America/New_York:20260919T210000
DTEND;TZID=America/New_York:20260919T230000
LOCATION:Weidner Field
DESCRIPTION:Dónde ver Colorado Springs vs New Mexico United en USL Champio
 nship. Transmisión en vivo y programación de TV.\nhttps://streamradar.soc
 cer/es/match/5505609/colorado-springs-vs-new-mexico-united/
URL;VALUE=URI:https://streamradar.soccer/es/match/5505609/colorado-springs-
 vs-new-mexico-united/
STATUS:CONFIRMED
END:VEVENT
END:VCALENDAR
