BEGIN:VCALENDAR
VERSION:2.0
PRODID:-//StreamRadar//Match Calendar//EN
CALSCALE:GREGORIAN
METHOD:PUBLISH
X-WR-CALNAME:Las Vegas Lights vs New Mexico United
X-WR-TIMEZONE:America/New_York
BEGIN:VEVENT
UID:match-5505586@streamradar.soccer
SUMMARY:Las Vegas Lights vs New Mexico United
DTSTAMP:20260421T122719Z
DTSTART;TZID=America/New_York:20260905T223000
DTEND;TZID=America/New_York:20260906T003000
LOCATION:Cashman Field
DESCRIPTION:Dónde ver Las Vegas Lights vs New Mexico United en USL Champio
 nship. Transmisión en vivo y programación de TV.\nhttps://streamradar.soc
 cer/es/match/5505586/las-vegas-lights-vs-new-mexico-united/
URL;VALUE=URI:https://streamradar.soccer/es/match/5505586/las-vegas-lights-
 vs-new-mexico-united/
STATUS:CONFIRMED
END:VEVENT
END:VCALENDAR
