BEGIN:VCALENDAR
VERSION:2.0
PRODID:-//StreamRadar//Match Calendar//EN
CALSCALE:GREGORIAN
METHOD:PUBLISH
X-WR-CALNAME:Vancouver Whitecaps vs Austin
X-WR-TIMEZONE:America/New_York
BEGIN:VEVENT
UID:match-5505174@streamradar.soccer
SUMMARY:Vancouver Whitecaps vs Austin
DTSTAMP:20260424T002913Z
DTSTART;TZID=America/New_York:20260913T183000
DTEND;TZID=America/New_York:20260913T203000
LOCATION:BC Place
DESCRIPTION:Dónde ver Vancouver Whitecaps vs Austin en Liga Mayor de Fútb
 ol. Transmisión en vivo y programación de TV.\nhttps://streamradar.soccer
 /es/match/5505174/vancouver-whitecaps-vs-austin/
URL;VALUE=URI:https://streamradar.soccer/es/match/5505174/vancouver-whiteca
 ps-vs-austin/
STATUS:CONFIRMED
END:VEVENT
END:VCALENDAR
