BEGIN:VCALENDAR
VERSION:2.0
PRODID:-//StreamRadar//Match Calendar//EN
CALSCALE:GREGORIAN
METHOD:PUBLISH
X-WR-CALNAME:CF Montréal vs Charlotte
X-WR-TIMEZONE:America/New_York
BEGIN:VEVENT
UID:match-5505147@streamradar.soccer
SUMMARY:CF Montréal vs Charlotte
DTSTAMP:20260424T044755Z
DTSTART;TZID=America/New_York:20260909T193000
DTEND;TZID=America/New_York:20260909T213000
LOCATION:Saputo Stadium
DESCRIPTION:Dónde ver CF Montréal vs Charlotte en Liga Mayor de Fútbol. 
 Transmisión en vivo y programación de TV.\nhttps://streamradar.soccer/es/
 match/5505147/cf-montreal-vs-charlotte/
URL;VALUE=URI:https://streamradar.soccer/es/match/5505147/cf-montreal-vs-ch
 arlotte/
STATUS:CONFIRMED
END:VEVENT
END:VCALENDAR
