BEGIN:VCALENDAR
VERSION:2.0
PRODID:-//StreamRadar//Match Calendar//EN
CALSCALE:GREGORIAN
METHOD:PUBLISH
X-WR-CALNAME:Minnesota United vs San Diego
X-WR-TIMEZONE:America/New_York
BEGIN:VEVENT
UID:match-5505065@streamradar.soccer
SUMMARY:Minnesota United vs San Diego
DTSTAMP:20260424T151603Z
DTSTART;TZID=America/New_York:20260801T203000
DTEND;TZID=America/New_York:20260801T223000
LOCATION:Allianz Field
DESCRIPTION:Dónde ver Minnesota United vs San Diego en Liga Mayor de Fútb
 ol. Transmisión en vivo y programación de TV.\nhttps://streamradar.soccer
 /es/match/5505065/minnesota-united-vs-san-diego/
URL;VALUE=URI:https://streamradar.soccer/es/match/5505065/minnesota-united-
 vs-san-diego/
STATUS:CONFIRMED
END:VEVENT
END:VCALENDAR
