BEGIN:VCALENDAR
VERSION:2.0
PRODID:-//StreamRadar//Match Calendar//EN
CALSCALE:GREGORIAN
METHOD:PUBLISH
X-WR-CALNAME:Athletico-PR vs Bahia
X-WR-TIMEZONE:America/New_York
BEGIN:VEVENT
UID:match-5504561@streamradar.soccer
SUMMARY:Athletico-PR vs Bahia
DTSTAMP:20260425T192153Z
DTSTART;TZID=America/New_York:20260920T160000
DTEND;TZID=America/New_York:20260920T180000
LOCATION:Arena da Baixada
DESCRIPTION:Dónde ver Athletico-PR vs Bahia en Brasil - Brasileirão. Tran
 smisión en vivo y programación de TV.\nhttps://streamradar.soccer/es/matc
 h/5504561/athletico-pr-vs-bahia/
URL;VALUE=URI:https://streamradar.soccer/es/match/5504561/athletico-pr-vs-b
 ahia/
STATUS:CONFIRMED
END:VEVENT
END:VCALENDAR
